BEGIN:VCALENDAR
PRODID:-//eluceo/ical//2.0/EN
VERSION:2.0
CALSCALE:GREGORIAN
BEGIN:VEVENT
UID:6c99f723-6645-5cbc-a306-fc05d2fb30ca
DTSTAMP:20250717T202312Z
SUMMARY:Первый полет ближнего бомбардировщи
 ка Су-2 с мотором М-88Б
DESCRIPTION:https://aviafan.ru/articles/pervyj-polet-blizhnego-bombardirovs
 hika-su-2-s-motorom-m-88b
URL:https://aviafan.ru/articles/pervyj-polet-blizhnego-bombardirovshika-su-
 2-s-motorom-m-88b
DTSTART;VALUE=DATE:19401202
RRULE:FREQ=YEARLY
FBTYPE:FREE
END:VEVENT
END:VCALENDAR
