BEGIN:VCALENDAR
PRODID:-//eluceo/ical//2.0/EN
VERSION:2.0
CALSCALE:GREGORIAN
BEGIN:VEVENT
UID:672dd29d-5f95-5684-9651-ae39eed0d8bd
DTSTAMP:20260421T085336Z
SUMMARY:Первый полет Bell 407
DESCRIPTION:https://aviafan.ru/articles/pervyj-polet-bell-407
URL:https://aviafan.ru/articles/pervyj-polet-bell-407
DTSTART;VALUE=DATE:19940421
RRULE:FREQ=YEARLY
FBTYPE:FREE
END:VEVENT
END:VCALENDAR
