BEGIN:VCALENDAR
PRODID:-//eluceo/ical//2.0/EN
VERSION:2.0
CALSCALE:GREGORIAN
BEGIN:VEVENT
UID:3b105c88-9a0a-5a41-8f90-3b5b5762e65c
DTSTAMP:20250905T122113Z
SUMMARY:Первый полет авиетки "ЛАКМ-1" Ленингр
 адского аэроклуба-музея с отечественным
  маломощным двигателем "Большевик"\, летч
 ик-испытатель Адольф Иоост
DESCRIPTION:https://aviafan.ru/articles/pervyj-polet-avietki-lakm-1-leningr
 adskogo-aerokluba-muzeya-s-otechestvennym-malomoshnym-dvigatelem-bolshevik
 -letchik-ispytatel-adolf-ioost
URL:https://aviafan.ru/articles/pervyj-polet-avietki-lakm-1-leningradskogo-
 aerokluba-muzeya-s-otechestvennym-malomoshnym-dvigatelem-bolshevik-letchik
 -ispytatel-adolf-ioost
DTSTART;VALUE=DATE:19281127
RRULE:FREQ=YEARLY
FBTYPE:FREE
END:VEVENT
END:VCALENDAR
