BEGIN:VCALENDAR
PRODID:-//eluceo/ical//2.0/EN
VERSION:2.0
CALSCALE:GREGORIAN
BEGIN:VEVENT
UID:092f9d74-a362-5627-aac7-470084f9e3b5
DTSTAMP:20260421T085705Z
SUMMARY:Первый полет Aubert РА-204 Cigale Major
DESCRIPTION:https://aviafan.ru/articles/pervyj-polet-aubert-ra-204-cigale-m
 ajor
URL:https://aviafan.ru/articles/pervyj-polet-aubert-ra-204-cigale-major
DTSTART;VALUE=DATE:19470421
RRULE:FREQ=YEARLY
FBTYPE:FREE
END:VEVENT
END:VCALENDAR
