BEGIN:VCALENDAR
PRODID:-//eluceo/ical//2.0/EN
VERSION:2.0
CALSCALE:GREGORIAN
BEGIN:VEVENT
UID:2c7c3a2f-205f-52f4-9645-c6fa7c9146ea
DTSTAMP:20260423T095450Z
SUMMARY:Первый полет Airbus A340-600
DESCRIPTION:https://aviafan.ru/articles/pervyj-polet-airbus-a340-600
URL:https://aviafan.ru/articles/pervyj-polet-airbus-a340-600
DTSTART;VALUE=DATE:20010423
RRULE:FREQ=YEARLY
FBTYPE:FREE
END:VEVENT
END:VCALENDAR
