BEGIN:VCALENDAR
PRODID:-//eluceo/ical//2.0/EN
VERSION:2.0
CALSCALE:GREGORIAN
BEGIN:VEVENT
UID:db33a772-099b-5720-b3cf-e00407144189
DTSTAMP:20260422T073959Z
SUMMARY:Первый полет Aeronautica Umbra Trojani AUT.18
DESCRIPTION:https://aviafan.ru/articles/pervyj-polet-aeronautica-umbra-troj
 ani-aut18
URL:https://aviafan.ru/articles/pervyj-polet-aeronautica-umbra-trojani-aut1
 8
DTSTART;VALUE=DATE:19390422
RRULE:FREQ=YEARLY
FBTYPE:FREE
END:VEVENT
END:VCALENDAR
