BEGIN:VCALENDAR
PRODID:-//eluceo/ical//2.0/EN
VERSION:2.0
CALSCALE:GREGORIAN
BEGIN:VEVENT
UID:ad9186ba-c67e-55f8-99f8-6fca2a0e33e0
DTSTAMP:20260419T095839Z
SUMMARY:Первый коммерческий рейс самолета Т
 у-204
DESCRIPTION:https://aviafan.ru/articles/pervyj-kommercheskij-rejs-samoleta-
 tu-204
URL:https://aviafan.ru/articles/pervyj-kommercheskij-rejs-samoleta-tu-204
DTSTART;VALUE=DATE:19960223
RRULE:FREQ=YEARLY
FBTYPE:FREE
END:VEVENT
END:VCALENDAR
