BEGIN:VCALENDAR
PRODID:-//eluceo/ical//2.0/EN
VERSION:2.0
CALSCALE:GREGORIAN
BEGIN:VEVENT
UID:08cf4bc0-a1e3-5bd2-8890-9366ccefd821
DTSTAMP:20260419T100006Z
SUMMARY:Открыта воздушная станция города Ми
 неральные Воды
DESCRIPTION:https://aviafan.ru/articles/otkryta-vozdushnaya-stanciya-goroda
 -mineralnye-vody
URL:https://aviafan.ru/articles/otkryta-vozdushnaya-stanciya-goroda-mineral
 nye-vody
DTSTART;VALUE=DATE:19250615
RRULE:FREQ=YEARLY
FBTYPE:FREE
END:VEVENT
END:VCALENDAR
