BEGIN:VCALENDAR
PRODID:-//eluceo/ical//2.0/EN
VERSION:2.0
CALSCALE:GREGORIAN
BEGIN:VEVENT
UID:ec1d0dd6-de56-5afb-add5-410669a08e7b
DTSTAMP:20260420T062938Z
SUMMARY:Открыт после реконструкции пассажир
 ский терминал аэропорта Чебоксары
DESCRIPTION:https://aviafan.ru/articles/otkryt-posle-rekonstrukcii-passazhi
 rskij-terminal-aeroporta-cheboksary
URL:https://aviafan.ru/articles/otkryt-posle-rekonstrukcii-passazhirskij-te
 rminal-aeroporta-cheboksary
DTSTART;VALUE=DATE:20241224
RRULE:FREQ=YEARLY
FBTYPE:FREE
END:VEVENT
END:VCALENDAR
