BEGIN:VCALENDAR
PRODID:-//eluceo/ical//2.0/EN
VERSION:2.0
CALSCALE:GREGORIAN
BEGIN:VEVENT
UID:a113cfe9-9644-54ad-bd9d-e90d681548fe
DTSTAMP:20260423T100454Z
SUMMARY:Осуществлен беспосадочный перелет С
 ША — Австралия БЛА Нортроп Грумман «Гло
 бал Хоук»
DESCRIPTION:https://aviafan.ru/articles/osushestvlen-besposadochnyj-perelet
 -ssha-avstraliya-bla-nortrop-grumman-global-houk
URL:https://aviafan.ru/articles/osushestvlen-besposadochnyj-perelet-ssha-av
 straliya-bla-nortrop-grumman-global-houk
DTSTART;VALUE=DATE:20010423
RRULE:FREQ=YEARLY
FBTYPE:FREE
END:VEVENT
END:VCALENDAR
