BEGIN:VCALENDAR
PRODID:-//eluceo/ical//2.0/EN
VERSION:2.0
CALSCALE:GREGORIAN
BEGIN:VEVENT
UID:361b8234-7f35-568a-b26a-f793e6c08d06
DTSTAMP:20241014T183342Z
SUMMARY:Основана авиакомпания Qantas
DESCRIPTION:https://aviafan.ru/articles/osnovana-aviakompaniya-qantas
URL:https://aviafan.ru/articles/osnovana-aviakompaniya-qantas
DTSTART;VALUE=DATE:19201116
RRULE:FREQ=YEARLY
FBTYPE:FREE
END:VEVENT
END:VCALENDAR
