BEGIN:VCALENDAR
PRODID:-//eluceo/ical//2.0/EN
VERSION:2.0
CALSCALE:GREGORIAN
BEGIN:VEVENT
UID:a44cfdd9-88db-5d27-aa7b-47ab0c1f2783
DTSTAMP:20260422T073457Z
SUMMARY:Официальное открытие нового термина
 ла аэропорта Мурманск
DESCRIPTION:https://aviafan.ru/articles/oficialnoe-otkrytie-novogo-terminal
 a-aeroporta-murmansk
URL:https://aviafan.ru/articles/oficialnoe-otkrytie-novogo-terminala-aeropo
 rta-murmansk
DTSTART;VALUE=DATE:20251120
RRULE:FREQ=YEARLY
FBTYPE:FREE
END:VEVENT
END:VCALENDAR
