BEGIN:VCALENDAR
PRODID:-//eluceo/ical//2.0/EN
VERSION:2.0
CALSCALE:GREGORIAN
BEGIN:VEVENT
UID:b10424bb-9fec-5750-9403-6d06c6c4bfa5
DTSTAMP:20250714T205808Z
SUMMARY:НПП "Мотор" передало в серийное произ
 водство двигатель Р13-300 для Миг-21СМ и Су-15
DESCRIPTION:https://aviafan.ru/articles/npp-motor-peredalo-v-serijnoe-proiz
 vodstvo-dvigatel-r13-300-dlya-mig-21sm-i-su-15
URL:https://aviafan.ru/articles/npp-motor-peredalo-v-serijnoe-proizvodstvo-
 dvigatel-r13-300-dlya-mig-21sm-i-su-15
DTSTART;VALUE=DATE:19691203
RRULE:FREQ=YEARLY
FBTYPE:FREE
END:VEVENT
END:VCALENDAR
