BEGIN:VCALENDAR
PRODID:-//eluceo/ical//2.0/EN
VERSION:2.0
CALSCALE:GREGORIAN
BEGIN:VEVENT
UID:1fd1abfc-d1a4-57ff-a220-8c5fbcafb823
DTSTAMP:20260423T095619Z
SUMMARY:Начало заводсикх испытаний Ту-116
DESCRIPTION:https://aviafan.ru/articles/nachalo-zavodsikh-ispytanij-tu-116
URL:https://aviafan.ru/articles/nachalo-zavodsikh-ispytanij-tu-116
DTSTART;VALUE=DATE:19570423
RRULE:FREQ=YEARLY
FBTYPE:FREE
END:VEVENT
END:VCALENDAR
