BEGIN:VCALENDAR
PRODID:-//eluceo/ical//2.0/EN
VERSION:2.0
CALSCALE:GREGORIAN
BEGIN:VEVENT
UID:107ffec1-f164-5aab-bc70-c21cb87cc730
DTSTAMP:20260421T085220Z
SUMMARY:Начало эксплуатации Sukhoi Superjet 100
DESCRIPTION:https://aviafan.ru/articles/nachalo-ekspluatacii-sukhoi-superje
 t-100
URL:https://aviafan.ru/articles/nachalo-ekspluatacii-sukhoi-superjet-100
DTSTART;VALUE=DATE:20110421
RRULE:FREQ=YEARLY
FBTYPE:FREE
END:VEVENT
END:VCALENDAR
