BEGIN:VCALENDAR
PRODID:-//eluceo/ical//2.0/EN
VERSION:2.0
CALSCALE:GREGORIAN
BEGIN:VEVENT
UID:a35a171e-3157-54e0-a98d-39aaa9f9e341
DTSTAMP:20250710T150203Z
SUMMARY:Начались испытания двигателя ТР-3 ко
 нструкции Архипа Люльки
DESCRIPTION:https://aviafan.ru/articles/nachalis-ispytaniya-dvigatelya-tr-3
 -konstrukcii-arhipa-lyulki
URL:https://aviafan.ru/articles/nachalis-ispytaniya-dvigatelya-tr-3-konstru
 kcii-arhipa-lyulki
DTSTART;VALUE=DATE:19471204
RRULE:FREQ=YEARLY
FBTYPE:FREE
END:VEVENT
END:VCALENDAR
