BEGIN:VCALENDAR
PRODID:-//eluceo/ical//2.0/EN
VERSION:2.0
CALSCALE:GREGORIAN
BEGIN:VEVENT
UID:3f24a2d3-6405-59cc-b6d9-64d35cd27781
DTSTAMP:20241014T150501Z
SUMMARY:Мировой рекорд высоты горизонтально
 го полёта для самолётов с ПД - 14.301 м \, Б.Бо
 ханном на своём смолёте В-1\, США. Рекорд н
 е превышен
DESCRIPTION:https://aviafan.ru/articles/mirovoj-rekord-vysoty-gorizontalnog
 o-polyota-dlya-samolyotov-s-pd-14301-m-bbohannom-na-svoyom-smolyote-v-1-ss
 ha-rekord-ne-prevyshen
URL:https://aviafan.ru/articles/mirovoj-rekord-vysoty-gorizontalnogo-polyot
 a-dlya-samolyotov-s-pd-14301-m-bbohannom-na-svoyom-smolyote-v-1-ssha-rekor
 d-ne-prevyshen
DTSTART;VALUE=DATE:20031115
RRULE:FREQ=YEARLY
FBTYPE:FREE
END:VEVENT
END:VCALENDAR
