BEGIN:VCALENDAR
PRODID:-//eluceo/ical//2.0/EN
VERSION:2.0
CALSCALE:GREGORIAN
BEGIN:VEVENT
UID:52a2b137-0570-5eb2-954e-a5bea9fdd850
DTSTAMP:20260423T095320Z
SUMMARY:Конец эксплуатации Fuji T-3
DESCRIPTION:https://aviafan.ru/articles/konec-ekspluatacii-fuji-t-3
URL:https://aviafan.ru/articles/konec-ekspluatacii-fuji-t-3
DTSTART;VALUE=DATE:20070423
RRULE:FREQ=YEARLY
FBTYPE:FREE
END:VEVENT
END:VCALENDAR
