BEGIN:VCALENDAR
PRODID:-//eluceo/ical//2.0/EN
VERSION:2.0
CALSCALE:GREGORIAN
BEGIN:VEVENT
UID:9cc47abb-adcf-5f4b-a211-e8960e6ea16c
DTSTAMP:20250902T110020Z
SUMMARY:Испытания самолета П-5 (Р-5) с подкрыль
 ными подвесными пассажирскими кассетам
 и\, конструктора Павла Гроховского
DESCRIPTION:https://aviafan.ru/articles/ispytaniya-samoleta-p-5-r-5-s-podkr
 ylnymi-podvesnymi-passazhirskimi-kassetami-konstruktora-pavla-grohovskogo
URL:https://aviafan.ru/articles/ispytaniya-samoleta-p-5-r-5-s-podkrylnymi-p
 odvesnymi-passazhirskimi-kassetami-konstruktora-pavla-grohovskogo
DTSTART;VALUE=DATE:19361129
RRULE:FREQ=YEARLY
FBTYPE:FREE
END:VEVENT
END:VCALENDAR
