BEGIN:VCALENDAR
PRODID:-//eluceo/ical//2.0/EN
VERSION:2.0
CALSCALE:GREGORIAN
BEGIN:VEVENT
UID:b198d342-a405-56ed-899c-e6f7b1abc499
DTSTAMP:20241022T061848Z
SUMMARY:15-21 июля — Впервые в истории совмест
 ный полет КК СССР и США -  "Союз-19" и "Аполл
 он"\, А.А. Леонов\, В.Н. Кубасов\, Т.Стаффорд\
 , В.Бранд\, Д.Слейтон
DESCRIPTION:https://aviafan.ru/articles/ff2ef4ff-e9cc-4738-9132-f121c81eb74
 e
URL:https://aviafan.ru/articles/ff2ef4ff-e9cc-4738-9132-f121c81eb74e
DTSTART;VALUE=DATE:19750715
RRULE:FREQ=YEARLY
FBTYPE:FREE
END:VEVENT
END:VCALENDAR
