BEGIN:VCALENDAR
PRODID:-//eluceo/ical//2.0/EN
VERSION:2.0
CALSCALE:GREGORIAN
BEGIN:VEVENT
UID:44ac8747-3d0b-5344-8e70-6e3d1984ddab
DTSTAMP:20241104T191438Z
SUMMARY:Первый полет Aerotec A-132 Tangara
DESCRIPTION:https://aviafan.ru/articles/f37da018-45db-4e2b-a66a-9a3585e00ce
 1
URL:https://aviafan.ru/articles/f37da018-45db-4e2b-a66a-9a3585e00ce1
DTSTART;VALUE=DATE:19810226
RRULE:FREQ=YEARLY
FBTYPE:FREE
END:VEVENT
END:VCALENDAR
