BEGIN:VCALENDAR
PRODID:-//eluceo/ical//2.0/EN
VERSION:2.0
CALSCALE:GREGORIAN
BEGIN:VEVENT
UID:831b391b-970f-5a30-be13-7c10cc665e3b
DTSTAMP:20241022T061848Z
SUMMARY:Принят на вооружение БР Р-12Н\, Р-14У\, Р-
 16Н КБ «Южное»
DESCRIPTION:https://aviafan.ru/articles/f2657ebd-8370-4464-b945-d11c54adabd
 d
URL:https://aviafan.ru/articles/f2657ebd-8370-4464-b945-d11c54adabdd
DTSTART;VALUE=DATE:19630715
RRULE:FREQ=YEARLY
FBTYPE:FREE
END:VEVENT
END:VCALENDAR
