BEGIN:VCALENDAR
PRODID:-//eluceo/ical//2.0/EN
VERSION:2.0
CALSCALE:GREGORIAN
BEGIN:VEVENT
UID:47c72c46-8711-504b-ad69-e89f3c0b5128
DTSTAMP:20260423T100713Z
SUMMARY:Достигнут рекорд дальности и продол
 жительности полет на мускулолете «Дедал
 » - 119 км за 3 часа 54 минуты
DESCRIPTION:https://aviafan.ru/articles/dostignut-rekord-dalnosti-i-prodolz
 hitelnosti-polet-na-muskulolete-dedal-119-km-za-3-chasa-54-minuty
URL:https://aviafan.ru/articles/dostignut-rekord-dalnosti-i-prodolzhitelnos
 ti-polet-na-muskulolete-dedal-119-km-za-3-chasa-54-minuty
DTSTART;VALUE=DATE:19880423
RRULE:FREQ=YEARLY
FBTYPE:FREE
END:VEVENT
END:VCALENDAR
