BEGIN:VCALENDAR
PRODID:-//eluceo/ical//2.0/EN
VERSION:2.0
CALSCALE:GREGORIAN
BEGIN:VEVENT
UID:6295f616-7f91-542e-b321-64a74d5a724a
DTSTAMP:20241110T184015Z
SUMMARY:Ю.И. Митиков на СВВП Як-38М выполнил по
 садку «задним ходом» на палубу ТАКР «Бак
 у» («Адмирал Горшков»)
DESCRIPTION:https://aviafan.ru/articles/dc86bd7c-99fe-48eb-9f46-aeb760c8b20
 a
URL:https://aviafan.ru/articles/dc86bd7c-99fe-48eb-9f46-aeb760c8b20a
DTSTART;VALUE=DATE:19870313
RRULE:FREQ=YEARLY
FBTYPE:FREE
END:VEVENT
END:VCALENDAR
