BEGIN:VCALENDAR
PRODID:-//eluceo/ical//2.0/EN
VERSION:2.0
CALSCALE:GREGORIAN
BEGIN:VEVENT
UID:020f638f-49ad-56a3-ba3e-d79b3bd02d6c
DTSTAMP:20250904T112127Z
SUMMARY:Дата создания ООО "Аэрософт-ГА"
DESCRIPTION:https://aviafan.ru/articles/data-sozdaniya-ooo-aerosoft-ga
URL:https://aviafan.ru/articles/data-sozdaniya-ooo-aerosoft-ga
DTSTART;VALUE=DATE:20011127
RRULE:FREQ=YEARLY
FBTYPE:FREE
END:VEVENT
END:VCALENDAR
