BEGIN:VCALENDAR
PRODID:-//eluceo/ical//2.0/EN
VERSION:2.0
CALSCALE:GREGORIAN
BEGIN:VEVENT
UID:4f25b40f-5a3f-5c0a-97bc-acf562c62551
DTSTAMP:20250903T112242Z
SUMMARY:Дата основания завода №469\, ныне "Теп
 лообменник"
DESCRIPTION:https://aviafan.ru/articles/data-osnovaniya-zavoda-469-nyne-tep
 loobmennik
URL:https://aviafan.ru/articles/data-osnovaniya-zavoda-469-nyne-teploobmenn
 ik
DTSTART;VALUE=DATE:19411128
RRULE:FREQ=YEARLY
FBTYPE:FREE
END:VEVENT
END:VCALENDAR
