BEGIN:VCALENDAR
PRODID:-//eluceo/ical//2.0/EN
VERSION:2.0
CALSCALE:GREGORIAN
BEGIN:VEVENT
UID:384c6e1a-04e2-5d47-bb96-50210512a2ab
DTSTAMP:20250902T104512Z
SUMMARY:Дата основания Рижского высшего вое
 нного авиационного инженерного училища 
 имени Я.И. Алксниса (РВВАИУ)\, Расформиров
 ано в 1993 г.
DESCRIPTION:https://aviafan.ru/articles/data-osnovaniya-rizhskogo-vysshego-
 voennogo-aviacionnogo-inzhenernogo-uchilisha-imeni-yai-alksnisa-rvvaiu-ras
 formirovano-v-1993-g
URL:https://aviafan.ru/articles/data-osnovaniya-rizhskogo-vysshego-voennogo
 -aviacionnogo-inzhenernogo-uchilisha-imeni-yai-alksnisa-rvvaiu-rasformirov
 ano-v-1993-g
DTSTART;VALUE=DATE:19381129
RRULE:FREQ=YEARLY
FBTYPE:FREE
END:VEVENT
END:VCALENDAR
