BEGIN:VCALENDAR
PRODID:-//eluceo/ical//2.0/EN
VERSION:2.0
CALSCALE:GREGORIAN
BEGIN:VEVENT
UID:659a2adb-acad-570f-8601-c8e9d6edc8a8
DTSTAMP:20241022T061836Z
SUMMARY:Первое участие в боевых действиях шт
 урмовиков Т-8 (Су-25)\, операция «Ромб»\, Афг
 анистан
DESCRIPTION:https://aviafan.ru/articles/cc90920c-1a71-4be5-ae40-d0df282e952
 5
URL:https://aviafan.ru/articles/cc90920c-1a71-4be5-ae40-d0df282e9525
DTSTART;VALUE=DATE:19830429
RRULE:FREQ=YEARLY
FBTYPE:FREE
END:VEVENT
END:VCALENDAR
