BEGIN:VCALENDAR
PRODID:-//eluceo/ical//2.0/EN
VERSION:2.0
CALSCALE:GREGORIAN
BEGIN:VEVENT
UID:69896319-b35f-5968-9209-902ab3e5ca51
DTSTAMP:20241022T061836Z
SUMMARY:первый полет Cessna 525 CitationJet/CJ
DESCRIPTION:https://aviafan.ru/articles/bf528541-ff71-48a0-81ba-dbb98bff1e5
 4
URL:https://aviafan.ru/articles/bf528541-ff71-48a0-81ba-dbb98bff1e54
DTSTART;VALUE=DATE:19910429
RRULE:FREQ=YEARLY
FBTYPE:FREE
END:VEVENT
END:VCALENDAR
