BEGIN:VCALENDAR
PRODID:-//eluceo/ical//2.0/EN
VERSION:2.0
CALSCALE:GREGORIAN
BEGIN:VEVENT
UID:a3c9cc79-28c4-55e6-bd5a-2fc332e15cc5
DTSTAMP:20260422T073125Z
SUMMARY:Аэропорту Мурманск присвоено имя ос
 нователя города Николая Второго
DESCRIPTION:https://aviafan.ru/articles/aeroportu-murmansk-prisvoeno-imya-o
 snovatelya-goroda-nikolaya-vtorogo
URL:https://aviafan.ru/articles/aeroportu-murmansk-prisvoeno-imya-osnovatel
 ya-goroda-nikolaya-vtorogo
DTSTART;VALUE=DATE:20190531
RRULE:FREQ=YEARLY
FBTYPE:FREE
END:VEVENT
END:VCALENDAR
