BEGIN:VCALENDAR
PRODID:-//eluceo/ical//2.0/EN
VERSION:2.0
CALSCALE:GREGORIAN
BEGIN:VEVENT
UID:207ba978-061c-56dc-8ec2-5c7a7f4c3bed
DTSTAMP:20260421T083655Z
SUMMARY:Аэропорту Ижевск присвоено имя М. Т. 
 Калашникова
DESCRIPTION:https://aviafan.ru/articles/aeroportu-izhevsk-prisvoeno-imya-m-
 t-kalashnikova
URL:https://aviafan.ru/articles/aeroportu-izhevsk-prisvoeno-imya-m-t-kalash
 nikova
DTSTART;VALUE=DATE:20251114
RRULE:FREQ=YEARLY
FBTYPE:FREE
END:VEVENT
END:VCALENDAR
