BEGIN:VCALENDAR
PRODID:-//eluceo/ical//2.0/EN
VERSION:2.0
CALSCALE:GREGORIAN
BEGIN:VEVENT
UID:c048be27-5218-5447-9090-665f69e314bb
DTSTAMP:20241030T090247Z
SUMMARY:Первый запуск РН сверхтяжелого клас
 са «Falcon Heavy» с возможностью частично-пов
 торного использования\, США
DESCRIPTION:https://aviafan.ru/articles/a5b37424-546c-48a9-92fe-5c9de37f8d9
 3
URL:https://aviafan.ru/articles/a5b37424-546c-48a9-92fe-5c9de37f8d93
DTSTART;VALUE=DATE:20180206
RRULE:FREQ=YEARLY
FBTYPE:FREE
END:VEVENT
END:VCALENDAR
