BEGIN:VCALENDAR
PRODID:-//eluceo/ical//2.0/EN
VERSION:2.0
CALSCALE:GREGORIAN
BEGIN:VEVENT
UID:06b4946c-3ab2-5336-9d81-f335ef5fdec8
DTSTAMP:20241104T191537Z
SUMMARY:Первый пуск из-под воды ПКР «Гранит» 
 разработки ЦКБМ (В.Н. Челомей)
DESCRIPTION:https://aviafan.ru/articles/9a0121aa-8406-4395-bb0c-de1ce5ab0d7
 0
URL:https://aviafan.ru/articles/9a0121aa-8406-4395-bb0c-de1ce5ab0d70
DTSTART;VALUE=DATE:19760226
RRULE:FREQ=YEARLY
FBTYPE:FREE
END:VEVENT
END:VCALENDAR
