BEGIN:VCALENDAR
PRODID:-//eluceo/ical//2.0/EN
VERSION:2.0
CALSCALE:GREGORIAN
BEGIN:VEVENT
UID:bb52e987-5412-5fe7-948d-ae625c39b860
DTSTAMP:20241022T061848Z
SUMMARY:Родился ученый в области космически
 х исследований С.Н. Вернов
DESCRIPTION:https://aviafan.ru/articles/96bc31fd-fb32-4273-b75b-483f520b1ed
 1
URL:https://aviafan.ru/articles/96bc31fd-fb32-4273-b75b-483f520b1ed1
DTSTART;VALUE=DATE:19100711
RRULE:FREQ=YEARLY
FBTYPE:FREE
END:VEVENT
END:VCALENDAR
