BEGIN:VCALENDAR
PRODID:-//eluceo/ical//2.0/EN
VERSION:2.0
CALSCALE:GREGORIAN
BEGIN:VEVENT
UID:d45d8a3c-f225-59ea-8b1d-c8befe4ef4d2
DTSTAMP:20241022T061847Z
SUMMARY:первый полет Mitsubishi J8M Shūsui
DESCRIPTION:https://aviafan.ru/articles/9163de85-f23f-4f44-a119-b9714b6f643
 9
URL:https://aviafan.ru/articles/9163de85-f23f-4f44-a119-b9714b6f6439
DTSTART;VALUE=DATE:19450707
RRULE:FREQ=YEARLY
FBTYPE:FREE
END:VEVENT
END:VCALENDAR
