BEGIN:VCALENDAR
PRODID:-//eluceo/ical//2.0/EN
VERSION:2.0
CALSCALE:GREGORIAN
BEGIN:VEVENT
UID:dcf31ac7-8b41-5d6f-9458-c9f60671666d
DTSTAMP:20241022T061836Z
SUMMARY:Первый полет пассажирского самолета
  Боинг 747-400
DESCRIPTION:https://aviafan.ru/articles/85fd4d02-4e8f-4c2b-93b9-52ba564e2d6
 b
URL:https://aviafan.ru/articles/85fd4d02-4e8f-4c2b-93b9-52ba564e2d6b
DTSTART;VALUE=DATE:19880429
RRULE:FREQ=YEARLY
FBTYPE:FREE
END:VEVENT
END:VCALENDAR
