BEGIN:VCALENDAR
PRODID:-//eluceo/ical//2.0/EN
VERSION:2.0
CALSCALE:GREGORIAN
BEGIN:VEVENT
UID:f7acbc53-754c-5885-9586-40b869e20f3e
DTSTAMP:20241104T191419Z
SUMMARY:Первый полет AIDC XC-2
DESCRIPTION:https://aviafan.ru/articles/827bb077-6980-470e-8e84-99abc646772
 5
URL:https://aviafan.ru/articles/827bb077-6980-470e-8e84-99abc6467725
DTSTART;VALUE=DATE:19790226
RRULE:FREQ=YEARLY
FBTYPE:FREE
END:VEVENT
END:VCALENDAR
