BEGIN:VCALENDAR
PRODID:-//eluceo/ical//2.0/EN
VERSION:2.0
CALSCALE:GREGORIAN
BEGIN:VEVENT
UID:26ba8a83-eedf-5d48-8c08-decf3aa2c692
DTSTAMP:20241112T114717Z
SUMMARY:Первый полет Adam M-309
DESCRIPTION:https://aviafan.ru/articles/6d6ebb22-8373-4a6f-ae60-34b10759605
 3
URL:https://aviafan.ru/articles/6d6ebb22-8373-4a6f-ae60-34b107596053
DTSTART;VALUE=DATE:20000321
RRULE:FREQ=YEARLY
FBTYPE:FREE
END:VEVENT
END:VCALENDAR
