BEGIN:VCALENDAR
PRODID:-//eluceo/ical//2.0/EN
VERSION:2.0
CALSCALE:GREGORIAN
BEGIN:VEVENT
UID:200efed3-7b4e-5ef6-8bec-2a6320d6d1c2
DTSTAMP:20241022T061848Z
SUMMARY:Запуск КК «Союз ТМА-05М»\, Ю.И. Маленче
 нко\, С.Уильямс (США) и А.Хосидэ (Япония) (Э
 О-32 на МКС)
DESCRIPTION:https://aviafan.ru/articles/6d53d383-9f7c-4073-a576-a7397b58e32
 4
URL:https://aviafan.ru/articles/6d53d383-9f7c-4073-a576-a7397b58e324
DTSTART;VALUE=DATE:20120715
RRULE:FREQ=YEARLY
FBTYPE:FREE
END:VEVENT
END:VCALENDAR
