BEGIN:VCALENDAR
PRODID:-//eluceo/ical//2.0/EN
VERSION:2.0
CALSCALE:GREGORIAN
BEGIN:VEVENT
UID:2bde03b5-324c-58ac-ab49-dd34a49d3eab
DTSTAMP:20241104T191453Z
SUMMARY:Первый полет лайнера Боинг 777-300ER\, Ф. 
 Сантони\, Дж. Кэшмэн
DESCRIPTION:https://aviafan.ru/articles/65ccf358-3ee9-4268-a742-5ec0ee22d47
 4
URL:https://aviafan.ru/articles/65ccf358-3ee9-4268-a742-5ec0ee22d474
DTSTART;VALUE=DATE:20030226
RRULE:FREQ=YEARLY
FBTYPE:FREE
END:VEVENT
END:VCALENDAR
