BEGIN:VCALENDAR
PRODID:-//eluceo/ical//2.0/EN
VERSION:2.0
CALSCALE:GREGORIAN
BEGIN:VEVENT
UID:e6585d40-61f5-57fc-8537-826a40b6b691
DTSTAMP:20260422T072909Z
SUMMARY:47-й истребительный авиационный полк 
 преобразован в 20-й гвардейский истребит
 ельный авиационный полк
DESCRIPTION:https://aviafan.ru/articles/47-j-istrebitelnyj-aviacionnyj-polk
 -preobrazovan-v-20-j-gvardejskij-istrebitelnyj-aviacionnyj-polk
URL:https://aviafan.ru/articles/47-j-istrebitelnyj-aviacionnyj-polk-preobra
 zovan-v-20-j-gvardejskij-istrebitelnyj-aviacionnyj-polk
DTSTART;VALUE=DATE:19420404
RRULE:FREQ=YEARLY
FBTYPE:FREE
END:VEVENT
END:VCALENDAR
