BEGIN:VCALENDAR
PRODID:-//eluceo/ical//2.0/EN
VERSION:2.0
CALSCALE:GREGORIAN
BEGIN:VEVENT
UID:0de22140-f0ff-5a90-96a6-358264b7f792
DTSTAMP:20241022T061836Z
SUMMARY:Первый полет учебно-боевого палубно
 го истребителя Су-33\, В.Г. Пугачев\, И.В. Ме
 льников
DESCRIPTION:https://aviafan.ru/articles/3b227888-c618-467b-9103-b70c9d9ce7c
 8
URL:https://aviafan.ru/articles/3b227888-c618-467b-9103-b70c9d9ce7c8
DTSTART;VALUE=DATE:19990429
RRULE:FREQ=YEARLY
FBTYPE:FREE
END:VEVENT
END:VCALENDAR
