BEGIN:VCALENDAR
PRODID:-//eluceo/ical//2.0/EN
VERSION:2.0
CALSCALE:GREGORIAN
BEGIN:VEVENT
UID:8d03074e-d312-55ba-b60e-978314a9cb1f
DTSTAMP:20241104T191337Z
SUMMARY:Первый полет Saab MFI-15 Safari
DESCRIPTION:https://aviafan.ru/articles/38259740-91bb-44d7-8034-5011b4ff17f
 6
URL:https://aviafan.ru/articles/38259740-91bb-44d7-8034-5011b4ff17f6
DTSTART;VALUE=DATE:19710226
RRULE:FREQ=YEARLY
FBTYPE:FREE
END:VEVENT
END:VCALENDAR
