BEGIN:VCALENDAR
PRODID:-//eluceo/ical//2.0/EN
VERSION:2.0
CALSCALE:GREGORIAN
BEGIN:VEVENT
UID:7459281a-4214-55fb-9e49-5da2c80249e3
DTSTAMP:20241029T180940Z
SUMMARY:Начало работы авиакомпании Kenya Airways
DESCRIPTION:https://aviafan.ru/articles/329808b1-e0d3-47b2-baa8-bdcd5d59e46
 8
URL:https://aviafan.ru/articles/329808b1-e0d3-47b2-baa8-bdcd5d59e468
DTSTART;VALUE=DATE:19770204
RRULE:FREQ=YEARLY
FBTYPE:FREE
END:VEVENT
END:VCALENDAR
