BEGIN:VCALENDAR
PRODID:-//eluceo/ical//2.0/EN
VERSION:2.0
CALSCALE:GREGORIAN
BEGIN:VEVENT
UID:6f454f4a-4337-527a-83eb-e5456b7945ee
DTSTAMP:20241022T061848Z
SUMMARY:первый полет Бе-103\, В.Н. Ульянов
DESCRIPTION:https://aviafan.ru/articles/246cb5c2-8f8d-41e4-882a-76e82d60d2f
 1
URL:https://aviafan.ru/articles/246cb5c2-8f8d-41e4-882a-76e82d60d2f1
DTSTART;VALUE=DATE:19970715
RRULE:FREQ=YEARLY
FBTYPE:FREE
END:VEVENT
END:VCALENDAR
