BEGIN:VCALENDAR
PRODID:-//eluceo/ical//2.0/EN
VERSION:2.0
CALSCALE:GREGORIAN
BEGIN:VEVENT
UID:0e474bd6-6178-58b4-a8b3-166e2b10822d
DTSTAMP:20260422T073001Z
SUMMARY:20-й гвардейский истребительный авиа
 ционный полк награждён орденом Красного
  Знамени
DESCRIPTION:https://aviafan.ru/articles/20-j-gvardejskij-istrebitelnyj-avia
 cionnyj-polk-nagrazhdyon-ordenom-krasnogo-znameni
URL:https://aviafan.ru/articles/20-j-gvardejskij-istrebitelnyj-aviacionnyj-
 polk-nagrazhdyon-ordenom-krasnogo-znameni
DTSTART;VALUE=DATE:19430222
RRULE:FREQ=YEARLY
FBTYPE:FREE
END:VEVENT
END:VCALENDAR
