BEGIN:VCALENDAR
PRODID:-//eluceo/ical//2.0/EN
VERSION:2.0
CALSCALE:GREGORIAN
BEGIN:VEVENT
UID:c4e85d91-8869-5be6-abbc-427156c327f9
DTSTAMP:20241110T183721Z
SUMMARY:Первый полет Hongdu L-15
DESCRIPTION:https://aviafan.ru/articles/12436e98-7ccb-4f25-acd5-5969f674f42
 5
URL:https://aviafan.ru/articles/12436e98-7ccb-4f25-acd5-5969f674f425
DTSTART;VALUE=DATE:20060313
RRULE:FREQ=YEARLY
FBTYPE:FREE
END:VEVENT
END:VCALENDAR
