BEGIN:VCALENDAR
PRODID:-//eluceo/ical//2.0/EN
VERSION:2.0
CALSCALE:GREGORIAN
BEGIN:VEVENT
UID:9f34f3ff-1926-5c9d-bec3-269e702fcf2e
DTSTAMP:20241022T061848Z
SUMMARY:Первый полет реактивного УТС Аэрома
 кки М346 «Мастер» (Италия)\, созданного на 
 основе Як-130
DESCRIPTION:https://aviafan.ru/articles/028c63b4-4a16-4007-a7c0-546e645ea67
 5
URL:https://aviafan.ru/articles/028c63b4-4a16-4007-a7c0-546e645ea675
DTSTART;VALUE=DATE:20040715
RRULE:FREQ=YEARLY
FBTYPE:FREE
END:VEVENT
END:VCALENDAR
